BEGIN:VCALENDAR
VERSION:2.0
PRODID:-//Protestantse Gemeente Dronten - ECPv6.15.20//NONSGML v1.0//EN
CALSCALE:GREGORIAN
METHOD:PUBLISH
X-WR-CALNAME:Protestantse Gemeente Dronten
X-ORIGINAL-URL:https://agenda.pgdronten.nl
X-WR-CALDESC:Evenementen voor Protestantse Gemeente Dronten
REFRESH-INTERVAL;VALUE=DURATION:PT1H
X-Robots-Tag:noindex
X-PUBLISHED-TTL:PT1H
BEGIN:VTIMEZONE
TZID:Europe/Amsterdam
BEGIN:DAYLIGHT
TZOFFSETFROM:+0100
TZOFFSETTO:+0200
TZNAME:CEST
DTSTART:20240331T010000
END:DAYLIGHT
BEGIN:STANDARD
TZOFFSETFROM:+0200
TZOFFSETTO:+0100
TZNAME:CET
DTSTART:20241027T010000
END:STANDARD
BEGIN:DAYLIGHT
TZOFFSETFROM:+0100
TZOFFSETTO:+0200
TZNAME:CEST
DTSTART:20250330T010000
END:DAYLIGHT
BEGIN:STANDARD
TZOFFSETFROM:+0200
TZOFFSETTO:+0100
TZNAME:CET
DTSTART:20251026T010000
END:STANDARD
BEGIN:DAYLIGHT
TZOFFSETFROM:+0100
TZOFFSETTO:+0200
TZNAME:CEST
DTSTART:20260329T010000
END:DAYLIGHT
BEGIN:STANDARD
TZOFFSETFROM:+0200
TZOFFSETTO:+0100
TZNAME:CET
DTSTART:20261025T010000
END:STANDARD
END:VTIMEZONE
BEGIN:VEVENT
DTSTART;TZID=Europe/Amsterdam:20251225T100000
DTEND;TZID=Europe/Amsterdam:20251225T110000
DTSTAMP:20260421T125956
CREATED:20251029T164724Z
LAST-MODIFIED:20260211T140937Z
UID:520-1766656800-1766660400@agenda.pgdronten.nl
SUMMARY:Kerstochtenddienst
DESCRIPTION:Gezinsdienst								\n					\n				\n				\n						\n					\n			\n						\n				\n					\n	« Alle Activiteiten\n 				\n				\n				\n				\n					Dit Activiteit is voorbij. \n				\n				\n				\n				\n					\n	Kerstochtenddienst				\n				\n				\n				\n					\n		\n			25 december\n\n	\n\n	   \n\n\n10:00\n\n		\n\n\n\n	\n	  -  \n\n11:00\n\n\n\n	\n				\n				\n				\n						\n					\n			\n							\n		\n				\n			\n							\n		\n					\n		\n				\n						\n					\n			\n						\n				\n					\n				\n				\n	\n	De Ark\n	\n	\n\nDe Oost 54\n		\n\n	8251 CV\n\n		Dronten\n	\n\n\n	Nederland\n	\n\n\n\n\n	+ Google Maps \n\n\n	\n					\n			0321 - 33 60 55			\n	 \n\n\n	\n	Bekijk de site van Locatie \n\n\n\n	\n\n\n\n		\n	\n				\n				\n					\n		\n					\n		\n				\n						\n					\n			\n						\n				\n					\n	\n		\n\n	\n	Toevoegen aan kalender	\n		\n	\n\n		\n			\n									\n	Google Calendar\n\n									\n	iCalendar\n\n									\n	Outlook 365\n\n									\n	Outlook Live\n\n							\n		\n\n		\n	\n\n				\n				\n					\n		\n					\n		\n				\n						\n					\n			\n						\n				\n					\n	\n		\n\n				Kerstnachtdienst	\n\n\n		\n	\n		Ochtenddienst 28-12-2025
URL:https://agenda.pgdronten.nl/activiteit/kerstochtenddienst/
LOCATION:De Ark\, De Oost 54\, Dronten\, 8251 CV\, Nederland
END:VEVENT
END:VCALENDAR