BEGIN:VCALENDAR
VERSION:2.0
PRODID:-//Protestantse Gemeente Dronten - ECPv6.15.20//NONSGML v1.0//EN
CALSCALE:GREGORIAN
METHOD:PUBLISH
X-WR-CALNAME:Protestantse Gemeente Dronten
X-ORIGINAL-URL:https://agenda.pgdronten.nl
X-WR-CALDESC:Evenementen voor Protestantse Gemeente Dronten
REFRESH-INTERVAL;VALUE=DURATION:PT1H
X-Robots-Tag:noindex
X-PUBLISHED-TTL:PT1H
BEGIN:VTIMEZONE
TZID:Europe/Amsterdam
BEGIN:DAYLIGHT
TZOFFSETFROM:+0100
TZOFFSETTO:+0200
TZNAME:CEST
DTSTART:20250330T010000
END:DAYLIGHT
BEGIN:STANDARD
TZOFFSETFROM:+0200
TZOFFSETTO:+0100
TZNAME:CET
DTSTART:20251026T010000
END:STANDARD
BEGIN:DAYLIGHT
TZOFFSETFROM:+0100
TZOFFSETTO:+0200
TZNAME:CEST
DTSTART:20260329T010000
END:DAYLIGHT
BEGIN:STANDARD
TZOFFSETFROM:+0200
TZOFFSETTO:+0100
TZNAME:CET
DTSTART:20261025T010000
END:STANDARD
BEGIN:DAYLIGHT
TZOFFSETFROM:+0100
TZOFFSETTO:+0200
TZNAME:CEST
DTSTART:20270328T010000
END:DAYLIGHT
BEGIN:STANDARD
TZOFFSETFROM:+0200
TZOFFSETTO:+0100
TZNAME:CET
DTSTART:20271031T010000
END:STANDARD
END:VTIMEZONE
BEGIN:VEVENT
DTSTART;TZID=Europe/Amsterdam:20260301T100000
DTEND;TZID=Europe/Amsterdam:20260301T110000
DTSTAMP:20260423T141844
CREATED:20250731T081503Z
LAST-MODIFIED:20260217T152300Z
UID:432-1772359200-1772362800@agenda.pgdronten.nl
SUMMARY:Testdienst
DESCRIPTION:Testdienst
URL:https://agenda.pgdronten.nl/activiteit/testdienst-3/
LOCATION:De Regenboog\, De Oost 55\, Dronten\, 8251 CS\, Nederland
CATEGORIES:Kerkdiensten
END:VEVENT
END:VCALENDAR