BEGIN:VCALENDAR
VERSION:2.0
PRODID:-//Protestantse Gemeente Dronten - ECPv6.15.20//NONSGML v1.0//EN
CALSCALE:GREGORIAN
METHOD:PUBLISH
X-ORIGINAL-URL:https://agenda.pgdronten.nl
X-WR-CALDESC:Evenementen voor Protestantse Gemeente Dronten
REFRESH-INTERVAL;VALUE=DURATION:PT1H
X-Robots-Tag:noindex
X-PUBLISHED-TTL:PT1H
BEGIN:VTIMEZONE
TZID:Europe/Amsterdam
BEGIN:DAYLIGHT
TZOFFSETFROM:+0100
TZOFFSETTO:+0200
TZNAME:CEST
DTSTART:20240331T010000
END:DAYLIGHT
BEGIN:STANDARD
TZOFFSETFROM:+0200
TZOFFSETTO:+0100
TZNAME:CET
DTSTART:20241027T010000
END:STANDARD
BEGIN:DAYLIGHT
TZOFFSETFROM:+0100
TZOFFSETTO:+0200
TZNAME:CEST
DTSTART:20250330T010000
END:DAYLIGHT
BEGIN:STANDARD
TZOFFSETFROM:+0200
TZOFFSETTO:+0100
TZNAME:CET
DTSTART:20251026T010000
END:STANDARD
BEGIN:DAYLIGHT
TZOFFSETFROM:+0100
TZOFFSETTO:+0200
TZNAME:CEST
DTSTART:20260329T010000
END:DAYLIGHT
BEGIN:STANDARD
TZOFFSETFROM:+0200
TZOFFSETTO:+0100
TZNAME:CET
DTSTART:20261025T010000
END:STANDARD
END:VTIMEZONE
BEGIN:VEVENT
DTSTART;TZID=Europe/Amsterdam:20251214T190000
DTEND;TZID=Europe/Amsterdam:20251214T200000
DTSTAMP:20260421T130455
CREATED:20251029T164709Z
LAST-MODIFIED:20251029T170420Z
UID:513-1765738800-1765742400@agenda.pgdronten.nl
SUMMARY:Derde advent - avonddienst
DESCRIPTION:
URL:https://agenda.pgdronten.nl/activiteit/derde-advent-avonddienst/
LOCATION:De Ark\, De Oost 54\, Dronten\, 8251 CV\, Nederland
END:VEVENT
BEGIN:VEVENT
DTSTART;TZID=Europe/Amsterdam:20251214T100000
DTEND;TZID=Europe/Amsterdam:20251214T110000
DTSTAMP:20260421T130455
CREATED:20251029T164709Z
LAST-MODIFIED:20251029T170420Z
UID:512-1765706400-1765710000@agenda.pgdronten.nl
SUMMARY:Derde advent - ochtenddienst
DESCRIPTION:
URL:https://agenda.pgdronten.nl/activiteit/derde-advent-ochtenddienst/
LOCATION:De Ark\, De Oost 54\, Dronten\, 8251 CV\, Nederland
END:VEVENT
BEGIN:VEVENT
DTSTART;TZID=Europe/Amsterdam:20251212T193000
DTEND;TZID=Europe/Amsterdam:20251212T200000
DTSTAMP:20260421T130455
CREATED:20251029T164707Z
LAST-MODIFIED:20251029T170418Z
UID:511-1765567800-1765569600@agenda.pgdronten.nl
SUMMARY:Vesper 12-12-2025
DESCRIPTION:
URL:https://agenda.pgdronten.nl/activiteit/vesper-12-12-2025/
LOCATION:De Ark\, De Oost 54\, Dronten\, 8251 CV\, Nederland
END:VEVENT
BEGIN:VEVENT
DTSTART;TZID=Europe/Amsterdam:20251207T190000
DTEND;TZID=Europe/Amsterdam:20251207T200000
DTSTAMP:20260421T130455
CREATED:20251029T164707Z
LAST-MODIFIED:20251029T170418Z
UID:510-1765134000-1765137600@agenda.pgdronten.nl
SUMMARY:Tweede Advent - avonddienst
DESCRIPTION:Heilig Avondmaal
URL:https://agenda.pgdronten.nl/activiteit/tweede-advent-avonddienst/
LOCATION:De Ark\, De Oost 54\, Dronten\, 8251 CV\, Nederland
END:VEVENT
BEGIN:VEVENT
DTSTART;TZID=Europe/Amsterdam:20251207T160000
DTEND;TZID=Europe/Amsterdam:20251207T170000
DTSTAMP:20260421T130455
CREATED:20251029T164707Z
LAST-MODIFIED:20251029T170418Z
UID:509-1765123200-1765126800@agenda.pgdronten.nl
SUMMARY:Tweede Advent - middagdienst
DESCRIPTION:Heilig Avondmaal
URL:https://agenda.pgdronten.nl/activiteit/tweede-advent-middagdienst/
LOCATION:De Regenboog\, De Oost 55\, Dronten\, 8251 CS\, Nederland
END:VEVENT
BEGIN:VEVENT
DTSTART;TZID=Europe/Amsterdam:20251207T100000
DTEND;TZID=Europe/Amsterdam:20251207T110000
DTSTAMP:20260421T130455
CREATED:20251029T164707Z
LAST-MODIFIED:20251029T170418Z
UID:508-1765101600-1765105200@agenda.pgdronten.nl
SUMMARY:Tweede Advent - ochtenddienst
DESCRIPTION:Heilig Avondmaal
URL:https://agenda.pgdronten.nl/activiteit/tweede-advent-ochtenddienst/
LOCATION:De Ark\, De Oost 54\, Dronten\, 8251 CV\, Nederland
END:VEVENT
BEGIN:VEVENT
DTSTART;TZID=Europe/Amsterdam:20251205T193000
DTEND;TZID=Europe/Amsterdam:20251205T200000
DTSTAMP:20260421T130455
CREATED:20251029T164707Z
LAST-MODIFIED:20251029T170418Z
UID:507-1764963000-1764964800@agenda.pgdronten.nl
SUMMARY:Vesper 05-12-2025
DESCRIPTION:
URL:https://agenda.pgdronten.nl/activiteit/vesper-05-12-2025/
LOCATION:De Ark\, De Oost 54\, Dronten\, 8251 CV\, Nederland
END:VEVENT
BEGIN:VEVENT
DTSTART;TZID=Europe/Amsterdam:20250928T190000
DTEND;TZID=Europe/Amsterdam:20250928T200000
DTSTAMP:20260421T130455
CREATED:20250731T081503Z
LAST-MODIFIED:20250806T150346Z
UID:431-1759086000-1759089600@agenda.pgdronten.nl
SUMMARY:Avonddienst 28-sep-2025
DESCRIPTION:Dienst Gereformeerde Bond
URL:https://agenda.pgdronten.nl/activiteit/avonddienst-28-sep-2025-4/
LOCATION:De Ark\, De Oost 54\, Dronten\, 8251 CV\, Nederland
END:VEVENT
BEGIN:VEVENT
DTSTART;TZID=Europe/Amsterdam:20250928T100000
DTEND;TZID=Europe/Amsterdam:20250928T110000
DTSTAMP:20260421T130455
CREATED:20250731T081503Z
LAST-MODIFIED:20250731T083620Z
UID:430-1759053600-1759057200@agenda.pgdronten.nl
SUMMARY:Ochtenddienst 28-sep-2025
DESCRIPTION:Doopdienst
URL:https://agenda.pgdronten.nl/activiteit/ochtenddienst-28-sep-2025-4/
LOCATION:De Ark\, De Oost 54\, Dronten\, 8251 CV\, Nederland
END:VEVENT
BEGIN:VEVENT
DTSTART;TZID=Europe/Amsterdam:20250921T190000
DTEND;TZID=Europe/Amsterdam:20250921T200000
DTSTAMP:20260421T130455
CREATED:20250731T081503Z
LAST-MODIFIED:20250731T083620Z
UID:429-1758481200-1758484800@agenda.pgdronten.nl
SUMMARY:Avonddienst 21-sep-2025
DESCRIPTION:
URL:https://agenda.pgdronten.nl/activiteit/avonddienst-21-sep-2025-4/
LOCATION:De Ark\, De Oost 54\, Dronten\, 8251 CV\, Nederland
END:VEVENT
BEGIN:VEVENT
DTSTART;TZID=Europe/Amsterdam:20250921T100000
DTEND;TZID=Europe/Amsterdam:20250921T110000
DTSTAMP:20260421T130455
CREATED:20250731T082930Z
LAST-MODIFIED:20250731T083618Z
UID:458-1758448800-1758452400@agenda.pgdronten.nl
SUMMARY:Ochtenddienst 21-sep-2025
DESCRIPTION:
URL:https://agenda.pgdronten.nl/activiteit/ochtenddienst-21-sep-2025-5/
LOCATION:De Ark\, De Oost 54\, Dronten\, 8251 CV\, Nederland
END:VEVENT
BEGIN:VEVENT
DTSTART;TZID=Europe/Amsterdam:20250914T190000
DTEND;TZID=Europe/Amsterdam:20250914T200000
DTSTAMP:20260421T130455
CREATED:20250731T081501Z
LAST-MODIFIED:20250731T083618Z
UID:427-1757876400-1757880000@agenda.pgdronten.nl
SUMMARY:Avonddienst 14-sep-2025
DESCRIPTION:Sing-in
URL:https://agenda.pgdronten.nl/activiteit/avonddienst-14-sep-2025-4/
LOCATION:De Ark\, De Oost 54\, Dronten\, 8251 CV\, Nederland
END:VEVENT
BEGIN:VEVENT
DTSTART;TZID=Europe/Amsterdam:20250914T100000
DTEND;TZID=Europe/Amsterdam:20250914T110000
DTSTAMP:20260421T130455
CREATED:20250731T082930Z
LAST-MODIFIED:20250731T083618Z
UID:456-1757844000-1757847600@agenda.pgdronten.nl
SUMMARY:Ochtenddienst 14-sep-2025
DESCRIPTION:Bevestiging ambtsdragers
URL:https://agenda.pgdronten.nl/activiteit/ochtenddienst-14-sep-2025-6/
LOCATION:De Ark\, De Oost 54\, Dronten\, 8251 CV\, Nederland
END:VEVENT
BEGIN:VEVENT
DTSTART;TZID=Europe/Amsterdam:20250907T190000
DTEND;TZID=Europe/Amsterdam:20250907T200000
DTSTAMP:20260421T130455
CREATED:20250731T081501Z
LAST-MODIFIED:20250731T083618Z
UID:425-1757271600-1757275200@agenda.pgdronten.nl
SUMMARY:Avonddienst 7-sep-2025
DESCRIPTION:
URL:https://agenda.pgdronten.nl/activiteit/avonddienst-7-sep-2025-4/
LOCATION:De Ark\, De Oost 54\, Dronten\, 8251 CV\, Nederland
END:VEVENT
BEGIN:VEVENT
DTSTART;TZID=Europe/Amsterdam:20250907T100000
DTEND;TZID=Europe/Amsterdam:20250907T110000
DTSTAMP:20260421T130455
CREATED:20250731T081500Z
LAST-MODIFIED:20251029T165742Z
UID:424-1757239200-1757242800@agenda.pgdronten.nl
SUMMARY:Ochtenddienst 7-sep-2025
DESCRIPTION:Startzondag \nLuister mee Kijk mee Download liturgie
URL:https://agenda.pgdronten.nl/activiteit/ochtenddienst-7-sep-2025-4/
LOCATION:De Ark\, De Oost 54\, Dronten\, 8251 CV\, Nederland
END:VEVENT
END:VCALENDAR