BEGIN:VCALENDAR
VERSION:2.0
PRODID:-//Protestantse Gemeente Dronten - ECPv6.15.20//NONSGML v1.0//EN
CALSCALE:GREGORIAN
METHOD:PUBLISH
X-WR-CALNAME:Protestantse Gemeente Dronten
X-ORIGINAL-URL:https://agenda.pgdronten.nl
X-WR-CALDESC:Evenementen voor Protestantse Gemeente Dronten
REFRESH-INTERVAL;VALUE=DURATION:PT1H
X-Robots-Tag:noindex
X-PUBLISHED-TTL:PT1H
BEGIN:VTIMEZONE
TZID:Europe/Amsterdam
BEGIN:DAYLIGHT
TZOFFSETFROM:+0100
TZOFFSETTO:+0200
TZNAME:CEST
DTSTART:20240331T010000
END:DAYLIGHT
BEGIN:STANDARD
TZOFFSETFROM:+0200
TZOFFSETTO:+0100
TZNAME:CET
DTSTART:20241027T010000
END:STANDARD
BEGIN:DAYLIGHT
TZOFFSETFROM:+0100
TZOFFSETTO:+0200
TZNAME:CEST
DTSTART:20250330T010000
END:DAYLIGHT
BEGIN:STANDARD
TZOFFSETFROM:+0200
TZOFFSETTO:+0100
TZNAME:CET
DTSTART:20251026T010000
END:STANDARD
BEGIN:DAYLIGHT
TZOFFSETFROM:+0100
TZOFFSETTO:+0200
TZNAME:CEST
DTSTART:20260329T010000
END:DAYLIGHT
BEGIN:STANDARD
TZOFFSETFROM:+0200
TZOFFSETTO:+0100
TZNAME:CET
DTSTART:20261025T010000
END:STANDARD
END:VTIMEZONE
BEGIN:VEVENT
DTSTART;TZID=Europe/Amsterdam:20250914T100000
DTEND;TZID=Europe/Amsterdam:20250914T110000
DTSTAMP:20260421T141729
CREATED:20250731T082930Z
LAST-MODIFIED:20250731T083618Z
UID:456-1757844000-1757847600@agenda.pgdronten.nl
SUMMARY:Ochtenddienst 14-sep-2025
DESCRIPTION:Bevestiging ambtsdragers
URL:https://agenda.pgdronten.nl/activiteit/ochtenddienst-14-sep-2025-6/
LOCATION:De Ark\, De Oost 54\, Dronten\, 8251 CV\, Nederland
END:VEVENT
BEGIN:VEVENT
DTSTART;TZID=Europe/Amsterdam:20250907T190000
DTEND;TZID=Europe/Amsterdam:20250907T200000
DTSTAMP:20260421T141729
CREATED:20250731T081501Z
LAST-MODIFIED:20250731T083618Z
UID:425-1757271600-1757275200@agenda.pgdronten.nl
SUMMARY:Avonddienst 7-sep-2025
DESCRIPTION:
URL:https://agenda.pgdronten.nl/activiteit/avonddienst-7-sep-2025-4/
LOCATION:De Ark\, De Oost 54\, Dronten\, 8251 CV\, Nederland
END:VEVENT
BEGIN:VEVENT
DTSTART;TZID=Europe/Amsterdam:20250907T100000
DTEND;TZID=Europe/Amsterdam:20250907T110000
DTSTAMP:20260421T141729
CREATED:20250731T081500Z
LAST-MODIFIED:20251029T165742Z
UID:424-1757239200-1757242800@agenda.pgdronten.nl
SUMMARY:Ochtenddienst 7-sep-2025
DESCRIPTION:Startzondag \nLuister mee Kijk mee Download liturgie
URL:https://agenda.pgdronten.nl/activiteit/ochtenddienst-7-sep-2025-4/
LOCATION:De Ark\, De Oost 54\, Dronten\, 8251 CV\, Nederland
END:VEVENT
END:VCALENDAR